BEGIN:VCALENDAR
VERSION:2.0
PRODID:-//Institut odpovědného veřejného zadávání - ECPv5.1.4//NONSGML v1.0//EN
CALSCALE:GREGORIAN
METHOD:PUBLISH
X-WR-CALNAME:Institut odpovědného veřejného zadávání
X-ORIGINAL-URL:https://institut.sovz.cz
X-WR-CALDESC:Akce na Institut odpovědného veřejného zadávání
BEGIN:VTIMEZONE
TZID:Europe/Helsinki
BEGIN:DAYLIGHT
TZOFFSETFROM:+0200
TZOFFSETTO:+0300
TZNAME:EEST
DTSTART:20210328T010000
END:DAYLIGHT
BEGIN:STANDARD
TZOFFSETFROM:+0300
TZOFFSETTO:+0200
TZNAME:EET
DTSTART:20211031T010000
END:STANDARD
END:VTIMEZONE
BEGIN:VEVENT
DTSTART;VALUE=DATE:20210411
DTEND;VALUE=DATE:20210412
DTSTAMP:20260425T235707
CREATED:20210412T110126Z
LAST-MODIFIED:20220426T213305Z
UID:6968-1618099200-1618185599@institut.sovz.cz
SUMMARY:Zdravotnictví a odpovědné zadávání aneb lze odpovědně zadávat i ve zdravotnictví? (videoseminář)
DESCRIPTION:Pro shlédnutí videa se\, prosím\, registrujte (napravo). Odkaz Vám obratem pošleme do e-mailu. \nZájemcům o tento seminář doporučujeme\, nemají-li již zkušenosti s odpovědným veřejným zadáváním\, nejprve absolvovat seminář “Průvodce odpovědným veřejným zadáváním po novele ZZVZ“. \nPokud jste zadavatelem ve sféře zdravotnictví či osobou\, která v této oblasti zajišťuje veřejné nákupy dodávek\, služeb a stavebních prací\, je tento seminář určen právě vám. Podstatou semináře je připomenout si jednotlivé aspekty odpovědného zadávání a přemýšlet nad jejich využitím při zadávání veřejných zakázek ve zdravotnickém sektoru. Cílem semináře je poskytnout informace\, které pomohou odpovědět na tyto základní otázky: Je možné zadávat odpovědně i ve zdravotnictví? Jaké jsou zkušenosti s odpovědným veřejným zadáváním v ČR i v ostatních zemích? Jaké jsou možnosti a jaké mohou být příležitosti uplatnění odpovědného veřejného zadávání v oblasti zdravotnictví? \nObsah semináře bude významně zaměřen na nákupy zboží\, služeb a stavebních prací v oblasti zdravotnictví s využitím aspektů odpovědného zadávání. Společně projdeme veřejné zakázky s předměty plnění běžného charakteru\, které se svou podstatou neliší od veřejných zakázek zadávaných i v jiných oblastech\, tak i veřejné zakázky s předměty plnění specifickými právě pro oblast zdravotnictví. Představíme vám současné možnosti a v rámci interaktivní části semináře budeme společně hledat další možné příležitosti pro uplatnění odpovědného přístupu při zadávání veřejných zakázek ve zdravotnictví. Informace budou doprovázeny zkušenostmi jiných zadavatelů i příklady z praxe\, a to jak na národní\, tak i mezinárodní úrovni. \nBěhem celého semináře bude průběžně prostor pro diskuzi k dané problematice zejména s ohledem na zkušenosti a názory účastníků semináře k dané problematice. \nSeminář je svým obsahem určen především pro zástupce veřejných zadavatelů\, a to jak pro manažery na vrcholové úrovni vedení zdravotnických zařízení (ředitele nemocnic\, obchodní/ekonomické náměstky\, zástupce investičních a majetkových útvarů\, aj..)\, tak i pro osoby\, které u zadavatele zajišťují a realizují veřejné nákupy\, tedy členy zakázkových týmů či organizátory veřejných nákupů. Seminář je však otevřen také zástupcům odborné veřejnosti nebo například dodavatelům v oblasti zdravotnictví. \nProgram: \n\n\n\nÚvod do problematiky OVZ – shrnutí základních informací a aspektů OVZ\nInteraktivní část – diskuze k tématu zdravotnictví a OVZ – zkušenosti a podněty\nBěžné veřejné zakázky ve zdravotnictví identifikace předmětů veřejných zakázek\, které se ve většině případů svojí podstatou neliší od veřejných zakázek zadávaných i v jiných oblastech a proto v nich lze v široké míře využívat aspekty odpovědného veřejného zadávání osvědčené a používané už v jiných oblastech – příklady\, zkušenosti + diskuze\nVeřejné zakázky specifické pro zdravotnictví– identifikace předmětů veřejných zakázek nakupovaných v oblasti zdravotnictví (např. léčiva\, zdravotnické materiály\, dezinfekční prostředky aj.) včetně možností a příležitostí pro uplatnění OVZ\, příklady z praxe\, metodiky\, zkušenosti + diskuze.\nShrnutí\n\n\n\nPrezentace ze semináře je ke stažení zde. \n
URL:https://institut.sovz.cz/seminar/zdravotnictvi-a-odpovedne-zadavani-aneb-lze-odpovedne-zadavat-i-ve-zdravotnictvi-videoseminar/
LOCATION:▶︎▶︎▶︎\, VIDEO SEMINÁŘ
CATEGORIES:Video seminář
ATTACH;FMTTYPE=image/jpeg:https://institut.sovz.cz/wp-content/uploads/2020/08/109.jpg
END:VEVENT
END:VCALENDAR