BEGIN:VCALENDAR
VERSION:2.0
PRODID:-//Institut odpovědného veřejného zadávání - ECPv5.1.4//NONSGML v1.0//EN
CALSCALE:GREGORIAN
METHOD:PUBLISH
X-WR-CALNAME:Institut odpovědného veřejného zadávání
X-ORIGINAL-URL:https://institut.sovz.cz
X-WR-CALDESC:Akce na Institut odpovědného veřejného zadávání
BEGIN:VTIMEZONE
TZID:Europe/Helsinki
BEGIN:DAYLIGHT
TZOFFSETFROM:+0200
TZOFFSETTO:+0300
TZNAME:EEST
DTSTART:20210328T010000
END:DAYLIGHT
BEGIN:STANDARD
TZOFFSETFROM:+0300
TZOFFSETTO:+0200
TZNAME:EET
DTSTART:20211031T010000
END:STANDARD
END:VTIMEZONE
BEGIN:VEVENT
DTSTART;TZID=Europe/Helsinki:20210621T130000
DTEND;TZID=Europe/Helsinki:20210621T153000
DTSTAMP:20260425T235610
CREATED:20200829T093202Z
LAST-MODIFIED:20210513T131946Z
UID:5868-1624280400-1624289400@institut.sovz.cz
SUMMARY:Veřejné nákupy odpovědně/strategicky – Etický kodex a problematika Compliance (připravujeme)
DESCRIPTION:Tento seminář je v přípravě\, datum bude upřesněn. \nCompliance je více než jen pouhé dodržování právních předpisů. Tento pojem zahrnuje rovněž hodnoty\, jakými jsou například férové jednání v dodavatelském řetězci\, důstojné pracovní podmínky a udržitelnost. Odpovědný přístup k veřejným nákupům předpokládá\, že zadavatel bude tyto hodnoty od dodavatelů vyžadovat. Tento seminář Vám také ukáže\, jak například využít Etický kodex jako příležitosti pro uplatnění odpovědného přístupu ve veřejných zakázkách. Důraz je kladen především na definování těch nejdůležitějších oblastí\, jak z oblasti férové soutěže\, zákazu diskriminace a korupce\, dodržování rovných příležitostí a důstojných pracovních podmínek\, tak i procedur\, které nastupují\, dochází-li k porušování vyjmenovaných hodnot. Jedná se především o interní kontrola a navazující postihy v podobě smluvních sankcí. \n
URL:https://institut.sovz.cz/seminar/verejne-nakupy-odpovedne-strategicky-eticky-kodex-a-problematika-compliance/
CATEGORIES:Připravujeme,Základní sada,Zobrazit na HP
ATTACH;FMTTYPE=image/jpeg:https://institut.sovz.cz/wp-content/uploads/2020/08/117.jpg
END:VEVENT
END:VCALENDAR