BEGIN:VCALENDAR
VERSION:2.0
PRODID:-//Institut odpovědného veřejného zadávání - ECPv5.1.4//NONSGML v1.0//EN
CALSCALE:GREGORIAN
METHOD:PUBLISH
X-WR-CALNAME:Institut odpovědného veřejného zadávání
X-ORIGINAL-URL:https://institut.sovz.cz
X-WR-CALDESC:Akce na Institut odpovědného veřejného zadávání
BEGIN:VTIMEZONE
TZID:Europe/Helsinki
BEGIN:DAYLIGHT
TZOFFSETFROM:+0200
TZOFFSETTO:+0300
TZNAME:EEST
DTSTART:20210328T010000
END:DAYLIGHT
BEGIN:STANDARD
TZOFFSETFROM:+0300
TZOFFSETTO:+0200
TZNAME:EET
DTSTART:20211031T010000
END:STANDARD
END:VTIMEZONE
BEGIN:VEVENT
DTSTART;TZID=Europe/Helsinki:20211031T083000
DTEND;TZID=Europe/Helsinki:20211031T123000
DTSTAMP:20260426T000054
CREATED:20200829T093906Z
LAST-MODIFIED:20210713T101021Z
UID:5877-1635669000-1635683400@institut.sovz.cz
SUMMARY:Řízení dopadu zakázky na jednotlivce/Pracovní a rekvalifikační příležitosti veřejných nákupů (připravujeme)
DESCRIPTION:Připravujeme  \nSeminář má představit jedno z klíčových témat strategického a odpovědného veřejného nakupování – péči o jednotlivce a jeho sociální aktivizaci – ať již v podobě pracovních příležitostí pro nezaměstnané\, tak podporu dalšího profesního růstu a zvýšení možnosti budoucího uplatnění na trhu práce.\nBudou prezentovány rozdílné metody a přístupy\, jak využít veřejné zakázky pro sociální aktivizaci znevýhodněných osob a přispívat tak celkově ekonomice\, inkluzi i zlepšení života jednotlivců.\nKromě právního rámce a doporučení pro praxi z rozhodnutí příslušných dozorových orgánů budou zejména představeny jednotlivé nástroje v kontextu zakázkové legislativy.\nTéma není v České republice novinkou a je tedy možné poukázat na již uplatněné příklady dobré praxe\, na rozhodovací praxi\, případně dospět k doporučením\, jak příslušné téma správně aplikovat. \nProgram: \n\nÚvod do ustanovení ZZVZ podporujících předmětná témata SOVZ\nRozcvička: Jak ne-aplikovat ustanovení ZZVZ pro podporu zaměstnávání- skupiny po cca 5-6 osobách\, společná práce\, prezentace výsledku diskuse (tj. zadání + diskuse ve skupině\, prezentace)\nJak aplikovat ustanovení ZZVZ pro podporu zaměstnávání (na konkrétním reálném příkladu) -skupiny po cca 5-6 osobách\, společná práce\, prezentace výsledku diskuse (tj. zadání + diskuse ve skupině\, prezentace)\nJak aplikovat ustanovení ZZVZ pro podporu zaměstnávání (modelové situace) – skupiny po cca 5-6 osobách\, společná práce\, prezentace výsledku diskuse (tj. zadání + diskuse ve skupině\, prezentace)\nzávěr – shrnutí\, plány dál\, nabídky z naší strany (a malá rezerva)\n\n  \n
URL:https://institut.sovz.cz/seminar/v-ramci-tohoto-seminare-budou-zadavatelum-predstaveny-moznosti-strategickeho-zadavani-jejich-verejnych-zakazek-na-stavebni-prace-aby-vedle-samotneho-predmetu-plneni-dokazali-zadavatele-ziskat-take-do/
CATEGORIES:Připravujeme
ATTACH;FMTTYPE=image/jpeg:https://institut.sovz.cz/wp-content/uploads/2020/08/206.jpg
END:VEVENT
END:VCALENDAR