BEGIN:VCALENDAR
VERSION:2.0
PRODID:-//Institut odpovědného veřejného zadávání - ECPv5.1.4//NONSGML v1.0//EN
CALSCALE:GREGORIAN
METHOD:PUBLISH
X-WR-CALNAME:Institut odpovědného veřejného zadávání
X-ORIGINAL-URL:https://institut.sovz.cz
X-WR-CALDESC:Akce na Institut odpovědného veřejného zadávání
BEGIN:VTIMEZONE
TZID:Europe/Helsinki
BEGIN:DAYLIGHT
TZOFFSETFROM:+0200
TZOFFSETTO:+0300
TZNAME:EEST
DTSTART:20210328T010000
END:DAYLIGHT
BEGIN:STANDARD
TZOFFSETFROM:+0300
TZOFFSETTO:+0200
TZNAME:EET
DTSTART:20211031T010000
END:STANDARD
END:VTIMEZONE
BEGIN:VEVENT
DTSTART;TZID=Europe/Helsinki:20210930T080000
DTEND;TZID=Europe/Helsinki:20210930T170000
DTSTAMP:20260425T235846
CREATED:20200829T093545Z
LAST-MODIFIED:20210713T100302Z
UID:5875-1632988800-1633021200@institut.sovz.cz
SUMMARY:Strategické zadávání ve stavebnictví se zaměřením na pracovní podmínky a podporu zaměstnanosti (připravujeme)
DESCRIPTION:Připravujeme  \nV rámci tohoto semináře budou zadavatelům představeny možnosti strategického zadávání jejich veřejných zakázek na stavební práce\, aby vedle samotného předmětu plnění dokázali zadavatelé získat také dodatečnou přidanou hodnotu v oblastech důstojných pracovních podmínek pro pracovníky na staveništi\, zaměstnanosti či praxí a rekvalifikací. \n  \n
URL:https://institut.sovz.cz/seminar/strategicke-zadavani-ve-stavebnictvi-se-zamerenim-na-pracovni-podminky-a-podporu-zamestnanosti/
CATEGORIES:Připravujeme
ATTACH;FMTTYPE=image/jpeg:https://institut.sovz.cz/wp-content/uploads/2020/08/205.jpg
END:VEVENT
END:VCALENDAR