BEGIN:VCALENDAR
VERSION:2.0
PRODID:-//Institut odpovědného veřejného zadávání - ECPv5.1.4//NONSGML v1.0//EN
CALSCALE:GREGORIAN
METHOD:PUBLISH
X-WR-CALNAME:Institut odpovědného veřejného zadávání
X-ORIGINAL-URL:https://institut.sovz.cz
X-WR-CALDESC:Akce na Institut odpovědného veřejného zadávání
BEGIN:VTIMEZONE
TZID:Europe/Helsinki
BEGIN:DAYLIGHT
TZOFFSETFROM:+0200
TZOFFSETTO:+0300
TZNAME:EEST
DTSTART:20200329T010000
END:DAYLIGHT
BEGIN:STANDARD
TZOFFSETFROM:+0300
TZOFFSETTO:+0200
TZNAME:EET
DTSTART:20201025T010000
END:STANDARD
END:VTIMEZONE
BEGIN:VEVENT
DTSTART;TZID=Europe/Helsinki:20201105T090000
DTEND;TZID=Europe/Helsinki:20201105T121500
DTSTAMP:20260426T031254
CREATED:20200829T085650Z
LAST-MODIFIED:20201116T130811Z
UID:5850-1604566800-1604578500@institut.sovz.cz
SUMMARY:Optimalizace svozu odpadů ve veřejných zakázkách a příležitosti ke zpracování odpadů
DESCRIPTION:Máte-li zájem zhlédnout záznam z tohoto semináře\, registrovat se můžete zde. \nSeminář poskytne zadavatelům přehled možností\, jak lze optimalizovat stávající systém nakládání s odpady ve městech a obcích. Zaměří se na jednotlivé kroky vedoucí k vyšší míře třídění a tím k snižování množství směsného komunálního odpadu\, který již nelze zpracovat a končí na skládkách či v zařízeních pro energetické využití odpadů (ZEVO). \nSeminář ukáže zadavatelům\, na co se zaměřit na začátku\, jaká data jsou potřebná k získání relevantních informací o současném stavu\, která data budou získávána průběžně a jak se budou následně pravidelně vyhodnocovat. Na základě těchto dat zadavatel pozná\, zda došlo ke zlepšení třídění\, a jaké další kroky by měl provést. Seminář přinese také inspiraci\, jak může zadavatel přímo ovlivnit způsob zpracování odpadu tak\, aby byl dále využit. Součástí bude i prezentace příkladů dobré praxe z českých měst\, která využila několik možností optimalizace systému nebo přispěla svými požadavky k optimalizaci vozového parku. \nNa závěr bude prostor pro zodpovězení otázek a pro otevřenou diskusi o zkušenostech\, ale také třeba o bariérách\, které vnímají zadavatelé jako klíčové při uplatňování tohoto přístupu v praxi. \nVčas před konáním semináře obdržíte e-mailem odkaz do online místnosti\, kde bude probíhat přímý online přenos semináře. \nProgram: \n\n\n\nAktuální situace odpadového hospodářství\nZískávání dat o odpadech\nMožnosti zpracování odpadů\nPříklady dobré praxe\n\n\n\n  \n
URL:https://institut.sovz.cz/seminar/optimalizace-svozu-odpadu-ve-verejnych-zakazkach-a-prilezitosti-ke-zpracovani-odpadu/
LOCATION:***\, ONLINE SEMINÁŘ
ATTACH;FMTTYPE=image/jpeg:https://institut.sovz.cz/wp-content/uploads/2020/08/111-1.jpg
GEO:50.07;14.41
X-APPLE-STRUCTURED-LOCATION;VALUE=URI;X-ADDRESS=*** ONLINE SEMINÁŘ;X-APPLE-RADIUS=500;X-TITLE=ONLINE SEMINÁŘ:geo:14.41,50.07
END:VEVENT
END:VCALENDAR