BEGIN:VCALENDAR
VERSION:2.0
PRODID:-//Institut odpovědného veřejného zadávání - ECPv5.1.4//NONSGML v1.0//EN
CALSCALE:GREGORIAN
METHOD:PUBLISH
X-WR-CALNAME:Institut odpovědného veřejného zadávání
X-ORIGINAL-URL:https://institut.sovz.cz
X-WR-CALDESC:Akce na Institut odpovědného veřejného zadávání
BEGIN:VTIMEZONE
TZID:Europe/Helsinki
BEGIN:DAYLIGHT
TZOFFSETFROM:+0200
TZOFFSETTO:+0300
TZNAME:EEST
DTSTART:20200329T010000
END:DAYLIGHT
BEGIN:STANDARD
TZOFFSETFROM:+0300
TZOFFSETTO:+0200
TZNAME:EET
DTSTART:20201025T010000
END:STANDARD
END:VTIMEZONE
BEGIN:VEVENT
DTSTART;VALUE=DATE:20201216
DTEND;VALUE=DATE:20201217
DTSTAMP:20260425T235917
CREATED:20201221T114259Z
LAST-MODIFIED:20220426T214111Z
UID:6747-1608076800-1608163199@institut.sovz.cz
SUMMARY:Komunikace s dodavateli při zadávání veřejných zakázek z pohledu OVZ – příležitost nebo důvod k obavám? (videoseminář)
DESCRIPTION:Pro shlédnutí videa se\, prosím\, registrujte (napravo). Odkaz Vám obratem pošleme do e-mailu. \nRole zadavatelů a dodavatelů jsou ve veřejném zadávání poměrně jednoznačně vymezeny. Jedni zboží\, služby a stavební práce poptávají\, druzí je nabízejí. V soukromém sektoru běžně dochází mezi stranami průběžně ke vzájemnému vyjednávání podmínek předmětu plnění a hledání vyváženosti obchodního vztahu. Zadavatelé sice takovou komunikaci s dodavateli vést nemohou\, existuje však celá řada legálních institutů a nástrojů\, které lze pro komunikaci mezi zadavateli a dodavateli využít a mohou přinést řadu praktických pozitivních dopadů. Správná komunikace je tak často klíčem k úspěšnému vysoutěžení veřejné zakázky.  \nPotřeba vhodné komunikace nabývá na důležitosti také v případech\, kdy zadavatelé v rámci svého strategického přístupu k veřejným zakázkám využívají konceptu tzv. odpovědného veřejného zadávání a v rámci své snahy poptat zboží\, služby nebo stavební práce\, prosazují i své další priority například v oblasti sociální politiky\, zaměstnanosti\, rozvoje místní ekonomiky nebo životního prostředí. Zadavatelé při komunikaci (jednání) mohou zjistit reakci trhu a jeho možnosti. Dodavatelé mohou zadavatelům pomoci nalézt užitečné nastavení aspektů OVZ\, kterými lze při plnění veřejné zakázky přispět společnosti či životnímu prostředí. Cílem je přitom najít efektivní nastavení (specifikace předmětu plnění a smluvních a obchodních podmínek) odpovídající požadavkům zadavatele i reálným možnostem dodavatelů. \nPokud si chcete udělat ucelený přehled o tom\, jak může zadavatel komunikaci využívat jako efektivní nástroj\, tento video seminář Vám nabídne celou řadu příležitostí.  \nNa video semináři Vám odpovíme nejen na tyto otázky: \n\nProč podporovat komunikaci mezi zadavateli a dodavateli?\nCo znamená „Meet the buyer“? Jak může zadavatel jednat průběžně s celým potenciálním dodavatelským řetězcem bez vazby na konkrétní veřejnou zakázku?\nPředběžné tržní konzultace v praxi – jak je připravit\, na co klást důraz a čeho se vyvarovat?\nJak může zadavatel podpořit větší účast dodavatelů v soutěži?\nMůže vhodná komunikace s dodavateli podpořit přístup malých a středních podniků k veřejným zakázkám a ovlivnit lokální ekonomiku?\nKdy je vhodné využít typy zadávacího řízení\, u kterých zákon umožňuje jednání s dodavateli ze své podstaty?  \n\nTento seminář je určen primárně pro veřejné zadavatele\, respektive klíčové osoby v organizaci\, které zajišťují veřejné nákupy v rámci organizace/úřadu\, tedy nejen pro členy zakázkových týmů\, ale i pro organizátory nákupů nebo například zástupce investičních útvarů. Je však otevřen také zástupcům odborné veřejnosti nebo například potenciálním dodavatelům. \nSeminář je postaven na konkrétních příkladech z praxe. \n
URL:https://institut.sovz.cz/seminar/komunikace-s-dodavateli-pri-zadavani-verejnych-zakazek-z-pohledu-ovz-prilezitost-nebo-duvod-k-obavam-videoseminar/
LOCATION:▶︎▶︎▶︎\, VIDEO SEMINÁŘ
CATEGORIES:Video seminář
ATTACH;FMTTYPE=image/jpeg:https://institut.sovz.cz/wp-content/uploads/2020/08/104.jpg
END:VEVENT
END:VCALENDAR